BEGIN:VCALENDAR
VERSION:2.0
PRODID:-//This Great White North - ECPv6.15.17.1//NONSGML v1.0//EN
CALSCALE:GREGORIAN
METHOD:PUBLISH
X-ORIGINAL-URL:https://thisgreatwhitenorth.com
X-WR-CALDESC:Events for This Great White North
REFRESH-INTERVAL;VALUE=DURATION:PT1H
X-Robots-Tag:noindex
X-PUBLISHED-TTL:PT1H
BEGIN:VTIMEZONE
TZID:America/Chicago
BEGIN:DAYLIGHT
TZOFFSETFROM:-0600
TZOFFSETTO:-0500
TZNAME:CDT
DTSTART:20190310T080000
END:DAYLIGHT
BEGIN:STANDARD
TZOFFSETFROM:-0500
TZOFFSETTO:-0600
TZNAME:CST
DTSTART:20191103T070000
END:STANDARD
BEGIN:DAYLIGHT
TZOFFSETFROM:-0600
TZOFFSETTO:-0500
TZNAME:CDT
DTSTART:20200308T080000
END:DAYLIGHT
BEGIN:STANDARD
TZOFFSETFROM:-0500
TZOFFSETTO:-0600
TZNAME:CST
DTSTART:20201101T070000
END:STANDARD
BEGIN:DAYLIGHT
TZOFFSETFROM:-0600
TZOFFSETTO:-0500
TZNAME:CDT
DTSTART:20210314T080000
END:DAYLIGHT
BEGIN:STANDARD
TZOFFSETFROM:-0500
TZOFFSETTO:-0600
TZNAME:CST
DTSTART:20211107T070000
END:STANDARD
END:VTIMEZONE
BEGIN:VEVENT
DTSTART;TZID=America/Chicago:20200925T200000
DTEND;TZID=America/Chicago:20200925T200000
DTSTAMP:20260424T012827
CREATED:20200313T051103Z
LAST-MODIFIED:20200921T070358Z
UID:6654-1601064000-1601064000@thisgreatwhitenorth.com
SUMMARY:Jessy Lanza [Canceled]
DESCRIPTION:Canceled. \nOpening for: \n\nYaeji\n\nShare this:\n				Share on Facebook (Opens in new window)\n				Facebook\n			\n				Share on X (Opens in new window)\n				X\n			\n				Email a link to a friend (Opens in new window)\n				Email\n			\n				Share on Tumblr (Opens in new window)\n				Tumblr\n			More\n				Share on Reddit (Opens in new window)\n				Reddit\n			\n				Share on Pinterest (Opens in new window)\n				Pinterest\n			\n				Print (Opens in new window)\n				Print
URL:https://thisgreatwhitenorth.com/event/jessy-lanza-2/
LOCATION:Emo’s\, 2015 E. Riverside Drive\, Austin\, TX\, 78741\, United States
CATEGORIES:canceled,show
END:VEVENT
END:VCALENDAR