BEGIN:VCALENDAR
VERSION:2.0
PRODID:-//This Great White North - ECPv6.15.17.1//NONSGML v1.0//EN
CALSCALE:GREGORIAN
METHOD:PUBLISH
X-WR-CALNAME:This Great White North
X-ORIGINAL-URL:https://thisgreatwhitenorth.com
X-WR-CALDESC:Events for This Great White North
REFRESH-INTERVAL;VALUE=DURATION:PT1H
X-Robots-Tag:noindex
X-PUBLISHED-TTL:PT1H
BEGIN:VTIMEZONE
TZID:America/Chicago
BEGIN:DAYLIGHT
TZOFFSETFROM:-0600
TZOFFSETTO:-0500
TZNAME:CDT
DTSTART:20190310T080000
END:DAYLIGHT
BEGIN:STANDARD
TZOFFSETFROM:-0500
TZOFFSETTO:-0600
TZNAME:CST
DTSTART:20191103T070000
END:STANDARD
BEGIN:DAYLIGHT
TZOFFSETFROM:-0600
TZOFFSETTO:-0500
TZNAME:CDT
DTSTART:20200308T080000
END:DAYLIGHT
BEGIN:STANDARD
TZOFFSETFROM:-0500
TZOFFSETTO:-0600
TZNAME:CST
DTSTART:20201101T070000
END:STANDARD
BEGIN:DAYLIGHT
TZOFFSETFROM:-0600
TZOFFSETTO:-0500
TZNAME:CDT
DTSTART:20210314T080000
END:DAYLIGHT
BEGIN:STANDARD
TZOFFSETFROM:-0500
TZOFFSETTO:-0600
TZNAME:CST
DTSTART:20211107T070000
END:STANDARD
END:VTIMEZONE
BEGIN:VEVENT
DTSTART;TZID=America/Chicago:20200809T200000
DTEND;TZID=America/Chicago:20200809T200000
DTSTAMP:20260424T030424
CREATED:20200313T050951Z
LAST-MODIFIED:20200618T071819Z
UID:6650-1597003200-1597003200@thisgreatwhitenorth.com
SUMMARY:Mundy's Bay [Postponed]
DESCRIPTION:Originally scheduled for April 5\, 2020 at Stubb’s. \nWith: \n\nHUNNY\nBay Faction\n\nShare this:\n				Share on Facebook (Opens in new window)\n				Facebook\n			\n				Share on X (Opens in new window)\n				X\n			\n				Email a link to a friend (Opens in new window)\n				Email\n			\n				Share on Tumblr (Opens in new window)\n				Tumblr\n			More\n				Share on Reddit (Opens in new window)\n				Reddit\n			\n				Share on Pinterest (Opens in new window)\n				Pinterest\n			\n				Print (Opens in new window)\n				Print
URL:https://thisgreatwhitenorth.com/event/mundys-bay/
LOCATION:Antone’s\, 305 E. 5th Street\, Austin\, TX\, 78701\, United States
CATEGORIES:show
END:VEVENT
BEGIN:VEVENT
DTSTART;TZID=America/Chicago:20200829T190000
DTEND;TZID=America/Chicago:20200829T190000
DTSTAMP:20260424T030424
CREATED:20200313T052015Z
LAST-MODIFIED:20200618T071409Z
UID:6651-1598727600-1598727600@thisgreatwhitenorth.com
SUMMARY:Wild Rivers [Canceled]
DESCRIPTION:Canceled. \nRescheduled for August 29\, 2020. \nOriginally scheduled for June 8\, 2020. \nIndoor show. \nShare this:\n				Share on Facebook (Opens in new window)\n				Facebook\n			\n				Share on X (Opens in new window)\n				X\n			\n				Email a link to a friend (Opens in new window)\n				Email\n			\n				Share on Tumblr (Opens in new window)\n				Tumblr\n			More\n				Share on Reddit (Opens in new window)\n				Reddit\n			\n				Share on Pinterest (Opens in new window)\n				Pinterest\n			\n				Print (Opens in new window)\n				Print
URL:https://thisgreatwhitenorth.com/event/wild-rivers-2/
LOCATION:Stubb’s\, 801 Red River Street\, Austin\, TX\, 78702\, United States
CATEGORIES:canceled,show
END:VEVENT
END:VCALENDAR