BEGIN:VCALENDAR
VERSION:2.0
PRODID:-//This Great White North - ECPv6.15.17.1//NONSGML v1.0//EN
CALSCALE:GREGORIAN
METHOD:PUBLISH
X-ORIGINAL-URL:https://thisgreatwhitenorth.com
X-WR-CALDESC:Events for This Great White North
REFRESH-INTERVAL;VALUE=DURATION:PT1H
X-Robots-Tag:noindex
X-PUBLISHED-TTL:PT1H
BEGIN:VTIMEZONE
TZID:America/Chicago
BEGIN:DAYLIGHT
TZOFFSETFROM:-0600
TZOFFSETTO:-0500
TZNAME:CDT
DTSTART:20160313T080000
END:DAYLIGHT
BEGIN:STANDARD
TZOFFSETFROM:-0500
TZOFFSETTO:-0600
TZNAME:CST
DTSTART:20161106T070000
END:STANDARD
BEGIN:DAYLIGHT
TZOFFSETFROM:-0600
TZOFFSETTO:-0500
TZNAME:CDT
DTSTART:20170312T080000
END:DAYLIGHT
BEGIN:STANDARD
TZOFFSETFROM:-0500
TZOFFSETTO:-0600
TZNAME:CST
DTSTART:20171105T070000
END:STANDARD
BEGIN:DAYLIGHT
TZOFFSETFROM:-0600
TZOFFSETTO:-0500
TZNAME:CDT
DTSTART:20180311T080000
END:DAYLIGHT
BEGIN:STANDARD
TZOFFSETFROM:-0500
TZOFFSETTO:-0600
TZNAME:CST
DTSTART:20181104T070000
END:STANDARD
BEGIN:DAYLIGHT
TZOFFSETFROM:-0600
TZOFFSETTO:-0500
TZNAME:CDT
DTSTART:20190310T080000
END:DAYLIGHT
BEGIN:STANDARD
TZOFFSETFROM:-0500
TZOFFSETTO:-0600
TZNAME:CST
DTSTART:20191103T070000
END:STANDARD
END:VTIMEZONE
BEGIN:VEVENT
DTSTART;TZID=America/Chicago:20180417T190000
DTEND;TZID=America/Chicago:20180417T190000
DTSTAMP:20260421T193158
CREATED:20180202T031914Z
LAST-MODIFIED:20180402T032318Z
UID:3197-1523991600-1523991600@thisgreatwhitenorth.com
SUMMARY:Chromeo
DESCRIPTION:Outdoor show with: \n\nPhantoms\nWrestlers\n\nShare this:\n				Share on Facebook (Opens in new window)\n				Facebook\n			\n				Share on X (Opens in new window)\n				X\n			\n				Email a link to a friend (Opens in new window)\n				Email\n			\n				Share on Tumblr (Opens in new window)\n				Tumblr\n			More\n				Share on Reddit (Opens in new window)\n				Reddit\n			\n				Share on Pinterest (Opens in new window)\n				Pinterest\n			\n				Print (Opens in new window)\n				Print
URL:https://thisgreatwhitenorth.com/event/chromeo-3/
LOCATION:Stubb’s\, 801 Red River Street\, Austin\, TX\, 78702\, United States
CATEGORIES:show
END:VEVENT
BEGIN:VEVENT
DTSTART;TZID=America/Chicago:20180416T200000
DTEND;TZID=America/Chicago:20180416T200000
DTSTAMP:20260421T193158
CREATED:20180402T033254Z
LAST-MODIFIED:20180402T033254Z
UID:3358-1523908800-1523908800@thisgreatwhitenorth.com
SUMMARY:The Pack A.D.
DESCRIPTION:Indoor show with: \n\nFuton Blonde\n\nShare this:\n				Share on Facebook (Opens in new window)\n				Facebook\n			\n				Share on X (Opens in new window)\n				X\n			\n				Email a link to a friend (Opens in new window)\n				Email\n			\n				Share on Tumblr (Opens in new window)\n				Tumblr\n			More\n				Share on Reddit (Opens in new window)\n				Reddit\n			\n				Share on Pinterest (Opens in new window)\n				Pinterest\n			\n				Print (Opens in new window)\n				Print
URL:https://thisgreatwhitenorth.com/event/the-pack-a-d-2/
LOCATION:Mohawk\, 912 Red River Street\, Austin\, 78701\, United States
CATEGORIES:incomplete,show
END:VEVENT
BEGIN:VEVENT
DTSTART;TZID=America/Chicago:20180405T210000
DTEND;TZID=America/Chicago:20180405T210000
DTSTAMP:20260421T193158
CREATED:20180209T052139Z
LAST-MODIFIED:20180305T031405Z
UID:3224-1522962000-1522962000@thisgreatwhitenorth.com
SUMMARY:Timber Timbre
DESCRIPTION:Share this:\n				Share on Facebook (Opens in new window)\n				Facebook\n			\n				Share on X (Opens in new window)\n				X\n			\n				Email a link to a friend (Opens in new window)\n				Email\n			\n				Share on Tumblr (Opens in new window)\n				Tumblr\n			More\n				Share on Reddit (Opens in new window)\n				Reddit\n			\n				Share on Pinterest (Opens in new window)\n				Pinterest\n			\n				Print (Opens in new window)\n				Print
URL:https://thisgreatwhitenorth.com/event/timber-timbre/
LOCATION:Barracuda\, 611 E. 7th Street\, Austin\, TX\, 78701\, United States
CATEGORIES:show
END:VEVENT
BEGIN:VEVENT
DTSTART;TZID=America/Chicago:20180403T200000
DTEND;TZID=America/Chicago:20180403T200000
DTSTAMP:20260421T193158
CREATED:20171207T162509Z
LAST-MODIFIED:20180402T032536Z
UID:3100-1522785600-1522785600@thisgreatwhitenorth.com
SUMMARY:Lindi Ortega
DESCRIPTION:Indoor show with: \n\nMinor Characters\n\nShare this:\n				Share on Facebook (Opens in new window)\n				Facebook\n			\n				Share on X (Opens in new window)\n				X\n			\n				Email a link to a friend (Opens in new window)\n				Email\n			\n				Share on Tumblr (Opens in new window)\n				Tumblr\n			More\n				Share on Reddit (Opens in new window)\n				Reddit\n			\n				Share on Pinterest (Opens in new window)\n				Pinterest\n			\n				Print (Opens in new window)\n				Print
URL:https://thisgreatwhitenorth.com/event/lindi-ortega-5/
LOCATION:Stubb’s\, 801 Red River Street\, Austin\, TX\, 78702\, United States
CATEGORIES:show
END:VEVENT
BEGIN:VEVENT
DTSTART;TZID=America/Chicago:20180323T190000
DTEND;TZID=America/Chicago:20180323T190000
DTSTAMP:20260421T193158
CREATED:20180202T031430Z
LAST-MODIFIED:20180202T031430Z
UID:3196-1521831600-1521831600@thisgreatwhitenorth.com
SUMMARY:Broken Social Scene / Belle Game
DESCRIPTION:Outdoor show. \nShare this:\n				Share on Facebook (Opens in new window)\n				Facebook\n			\n				Share on X (Opens in new window)\n				X\n			\n				Email a link to a friend (Opens in new window)\n				Email\n			\n				Share on Tumblr (Opens in new window)\n				Tumblr\n			More\n				Share on Reddit (Opens in new window)\n				Reddit\n			\n				Share on Pinterest (Opens in new window)\n				Pinterest\n			\n				Print (Opens in new window)\n				Print
URL:https://thisgreatwhitenorth.com/event/broken-social-scene-belle-game/
LOCATION:Stubb’s\, 801 Red River Street\, Austin\, TX\, 78702\, United States
CATEGORIES:show
END:VEVENT
BEGIN:VEVENT
DTSTART;TZID=America/Chicago:20180308T210000
DTEND;TZID=America/Chicago:20180308T210000
DTSTAMP:20260421T193158
CREATED:20180305T035913Z
LAST-MODIFIED:20180305T035913Z
UID:3300-1520542800-1520542800@thisgreatwhitenorth.com
SUMMARY:Jo Hell
DESCRIPTION:With: \n\nSonny Wolf\n\n  \nShare this:\n				Share on Facebook (Opens in new window)\n				Facebook\n			\n				Share on X (Opens in new window)\n				X\n			\n				Email a link to a friend (Opens in new window)\n				Email\n			\n				Share on Tumblr (Opens in new window)\n				Tumblr\n			More\n				Share on Reddit (Opens in new window)\n				Reddit\n			\n				Share on Pinterest (Opens in new window)\n				Pinterest\n			\n				Print (Opens in new window)\n				Print
URL:https://thisgreatwhitenorth.com/event/jo-hell/
LOCATION:Hole In the Wall\, 2538 Guadalupe Street\, Austin\, TX\, 78705\, United States
CATEGORIES:show
END:VEVENT
BEGIN:VEVENT
DTSTART;TZID=America/Chicago:20180228T183000
DTEND;TZID=America/Chicago:20180228T183000
DTSTAMP:20260421T193158
CREATED:20180209T051939Z
LAST-MODIFIED:20180209T051939Z
UID:3223-1519842600-1519842600@thisgreatwhitenorth.com
SUMMARY:Mac DeMarco
DESCRIPTION:Share this:\n				Share on Facebook (Opens in new window)\n				Facebook\n			\n				Share on X (Opens in new window)\n				X\n			\n				Email a link to a friend (Opens in new window)\n				Email\n			\n				Share on Tumblr (Opens in new window)\n				Tumblr\n			More\n				Share on Reddit (Opens in new window)\n				Reddit\n			\n				Share on Pinterest (Opens in new window)\n				Pinterest\n			\n				Print (Opens in new window)\n				Print
URL:https://thisgreatwhitenorth.com/event/mac-demarco-7/
LOCATION:Mohawk\, 912 Red River Street\, Austin\, 78701\, United States
CATEGORIES:show
END:VEVENT
BEGIN:VEVENT
DTSTART;TZID=America/Chicago:20180217T210000
DTEND;TZID=America/Chicago:20180217T210000
DTSTAMP:20260421T193158
CREATED:20171120T064246Z
LAST-MODIFIED:20180209T051206Z
UID:3064-1518901200-1518901200@thisgreatwhitenorth.com
SUMMARY:Busty and The Bass
DESCRIPTION:Indoor show with: \n\nSTS\nKhari Marteen\n\nShare this:\n				Share on Facebook (Opens in new window)\n				Facebook\n			\n				Share on X (Opens in new window)\n				X\n			\n				Email a link to a friend (Opens in new window)\n				Email\n			\n				Share on Tumblr (Opens in new window)\n				Tumblr\n			More\n				Share on Reddit (Opens in new window)\n				Reddit\n			\n				Share on Pinterest (Opens in new window)\n				Pinterest\n			\n				Print (Opens in new window)\n				Print
URL:https://thisgreatwhitenorth.com/event/busty-and-the-bass/
LOCATION:Stubb’s\, 801 Red River Street\, Austin\, TX\, 78702\, United States
CATEGORIES:show
END:VEVENT
BEGIN:VEVENT
DTSTART;TZID=America/Chicago:20180217T190000
DTEND;TZID=America/Chicago:20180217T190000
DTSTAMP:20260421T193158
CREATED:20171110T023755Z
LAST-MODIFIED:20180202T031208Z
UID:3025-1518894000-1518894000@thisgreatwhitenorth.com
SUMMARY:Bahamas / The Weather Station
DESCRIPTION:Share this:\n				Share on Facebook (Opens in new window)\n				Facebook\n			\n				Share on X (Opens in new window)\n				X\n			\n				Email a link to a friend (Opens in new window)\n				Email\n			\n				Share on Tumblr (Opens in new window)\n				Tumblr\n			More\n				Share on Reddit (Opens in new window)\n				Reddit\n			\n				Share on Pinterest (Opens in new window)\n				Pinterest\n			\n				Print (Opens in new window)\n				Print
URL:https://thisgreatwhitenorth.com/event/bahamas-the-weather-station/
LOCATION:Antone’s\, 305 E. 5th Street\, Austin\, TX\, 78701\, United States
CATEGORIES:show
END:VEVENT
BEGIN:VEVENT
DTSTART;TZID=America/Chicago:20180216T200000
DTEND;TZID=America/Chicago:20180216T200000
DTSTAMP:20260421T193158
CREATED:20171120T063033Z
LAST-MODIFIED:20180209T050722Z
UID:3058-1518811200-1518811200@thisgreatwhitenorth.com
SUMMARY:Weaves
DESCRIPTION:With: \n\nPalehound\nMost Likely\n\nShare this:\n				Share on Facebook (Opens in new window)\n				Facebook\n			\n				Share on X (Opens in new window)\n				X\n			\n				Email a link to a friend (Opens in new window)\n				Email\n			\n				Share on Tumblr (Opens in new window)\n				Tumblr\n			More\n				Share on Reddit (Opens in new window)\n				Reddit\n			\n				Share on Pinterest (Opens in new window)\n				Pinterest\n			\n				Print (Opens in new window)\n				Print
URL:https://thisgreatwhitenorth.com/event/weaves/
LOCATION:Sidewinder\, 715 Red River Street\, Austin\, TX\, 78701\, United States
CATEGORIES:show
END:VEVENT
BEGIN:VEVENT
DTSTART;TZID=America/Chicago:20180216T200000
DTEND;TZID=America/Chicago:20180216T200000
DTSTAMP:20260421T193158
CREATED:20171110T041927Z
LAST-MODIFIED:20171120T061337Z
UID:3028-1518811200-1518811200@thisgreatwhitenorth.com
SUMMARY:LIGHTS
DESCRIPTION:With: \n\nChase Atlantic\nDCF\n\nShare this:\n				Share on Facebook (Opens in new window)\n				Facebook\n			\n				Share on X (Opens in new window)\n				X\n			\n				Email a link to a friend (Opens in new window)\n				Email\n			\n				Share on Tumblr (Opens in new window)\n				Tumblr\n			More\n				Share on Reddit (Opens in new window)\n				Reddit\n			\n				Share on Pinterest (Opens in new window)\n				Pinterest\n			\n				Print (Opens in new window)\n				Print
URL:https://thisgreatwhitenorth.com/event/lights-4/
LOCATION:Emo’s\, 2015 E. Riverside Drive\, Austin\, TX\, 78741\, United States
CATEGORIES:show
END:VEVENT
BEGIN:VEVENT
DTSTART;TZID=America/Chicago:20180215T210000
DTEND;TZID=America/Chicago:20180215T210000
DTSTAMP:20260421T193158
CREATED:20180209T061858Z
LAST-MODIFIED:20180209T061858Z
UID:3227-1518728400-1518728400@thisgreatwhitenorth.com
SUMMARY:Keys N Krates
DESCRIPTION:Share this:\n				Share on Facebook (Opens in new window)\n				Facebook\n			\n				Share on X (Opens in new window)\n				X\n			\n				Email a link to a friend (Opens in new window)\n				Email\n			\n				Share on Tumblr (Opens in new window)\n				Tumblr\n			More\n				Share on Reddit (Opens in new window)\n				Reddit\n			\n				Share on Pinterest (Opens in new window)\n				Pinterest\n			\n				Print (Opens in new window)\n				Print
URL:https://thisgreatwhitenorth.com/event/keys-n-krates-2/
LOCATION:Vulcan Gas Company\, 418 E. 6th Street\, Austin\, TX\, 78701\, United States
CATEGORIES:show
END:VEVENT
BEGIN:VEVENT
DTSTART;TZID=America/Chicago:20180208T210000
DTEND;TZID=America/Chicago:20180208T210000
DTSTAMP:20260421T193158
CREATED:20180118T232751Z
LAST-MODIFIED:20180209T051145Z
UID:3167-1518123600-1518123600@thisgreatwhitenorth.com
SUMMARY:A-Trak
DESCRIPTION:With: \n\nYehMe2\nGAMMA\n\nShare this:\n				Share on Facebook (Opens in new window)\n				Facebook\n			\n				Share on X (Opens in new window)\n				X\n			\n				Email a link to a friend (Opens in new window)\n				Email\n			\n				Share on Tumblr (Opens in new window)\n				Tumblr\n			More\n				Share on Reddit (Opens in new window)\n				Reddit\n			\n				Share on Pinterest (Opens in new window)\n				Pinterest\n			\n				Print (Opens in new window)\n				Print
URL:https://thisgreatwhitenorth.com/event/a-trak-4/
LOCATION:Mohawk\, 912 Red River Street\, Austin\, 78701\, United States
CATEGORIES:show
END:VEVENT
BEGIN:VEVENT
DTSTART;TZID=America/Chicago:20180202T190000
DTEND;TZID=America/Chicago:20180202T190000
DTSTAMP:20260421T193158
CREATED:20180104T030243Z
LAST-MODIFIED:20180104T030243Z
UID:3129-1517598000-1517598000@thisgreatwhitenorth.com
SUMMARY:Charlotte Cardin
DESCRIPTION:Outdoor show with: \n\nBØRNS\nMikky Ekko\n\n  \nShare this:\n				Share on Facebook (Opens in new window)\n				Facebook\n			\n				Share on X (Opens in new window)\n				X\n			\n				Email a link to a friend (Opens in new window)\n				Email\n			\n				Share on Tumblr (Opens in new window)\n				Tumblr\n			More\n				Share on Reddit (Opens in new window)\n				Reddit\n			\n				Share on Pinterest (Opens in new window)\n				Pinterest\n			\n				Print (Opens in new window)\n				Print
URL:https://thisgreatwhitenorth.com/event/charlotte-cardin-2/
LOCATION:Stubb’s\, 801 Red River Street\, Austin\, TX\, 78702\, United States
CATEGORIES:show
END:VEVENT
BEGIN:VEVENT
DTSTART;TZID=America/Chicago:20180127T200000
DTEND;TZID=America/Chicago:20180127T200000
DTSTAMP:20260421T193158
CREATED:20180105T040742Z
LAST-MODIFIED:20180105T040742Z
UID:3137-1517083200-1517083200@thisgreatwhitenorth.com
SUMMARY:Alan Doyle / Donovan Woods
DESCRIPTION:Share this:\n				Share on Facebook (Opens in new window)\n				Facebook\n			\n				Share on X (Opens in new window)\n				X\n			\n				Email a link to a friend (Opens in new window)\n				Email\n			\n				Share on Tumblr (Opens in new window)\n				Tumblr\n			More\n				Share on Reddit (Opens in new window)\n				Reddit\n			\n				Share on Pinterest (Opens in new window)\n				Pinterest\n			\n				Print (Opens in new window)\n				Print
URL:https://thisgreatwhitenorth.com/event/alan-doyle-donovan-woods/
LOCATION:Cactus Cafe\, 2247 Guadalupe Street\, Austin\, TX\, 78712\, United States
CATEGORIES:show
END:VEVENT
BEGIN:VEVENT
DTSTART;TZID=America/Chicago:20180126T200000
DTEND;TZID=America/Chicago:20180126T200000
DTSTAMP:20260421T193158
CREATED:20171011T052600Z
LAST-MODIFIED:20171011T052600Z
UID:2964-1516996800-1516996800@thisgreatwhitenorth.com
SUMMARY:Wolf Parade
DESCRIPTION:Outdoor show with: \n\nCharly Bliss\n\nShare this:\n				Share on Facebook (Opens in new window)\n				Facebook\n			\n				Share on X (Opens in new window)\n				X\n			\n				Email a link to a friend (Opens in new window)\n				Email\n			\n				Share on Tumblr (Opens in new window)\n				Tumblr\n			More\n				Share on Reddit (Opens in new window)\n				Reddit\n			\n				Share on Pinterest (Opens in new window)\n				Pinterest\n			\n				Print (Opens in new window)\n				Print
URL:https://thisgreatwhitenorth.com/event/wolf-parade/
LOCATION:Mohawk\, 912 Red River Street\, Austin\, 78701\, United States
CATEGORIES:show
END:VEVENT
BEGIN:VEVENT
DTSTART;TZID=America/Chicago:20180121T200000
DTEND;TZID=America/Chicago:20180121T200000
DTSTAMP:20260421T193158
CREATED:20171120T062454Z
LAST-MODIFIED:20171120T062454Z
UID:3054-1516564800-1516564800@thisgreatwhitenorth.com
SUMMARY:The Deep Dark Woods
DESCRIPTION:Indoor show. \nShare this:\n				Share on Facebook (Opens in new window)\n				Facebook\n			\n				Share on X (Opens in new window)\n				X\n			\n				Email a link to a friend (Opens in new window)\n				Email\n			\n				Share on Tumblr (Opens in new window)\n				Tumblr\n			More\n				Share on Reddit (Opens in new window)\n				Reddit\n			\n				Share on Pinterest (Opens in new window)\n				Pinterest\n			\n				Print (Opens in new window)\n				Print
URL:https://thisgreatwhitenorth.com/event/the-deep-dark-woods-2/
LOCATION:Stubb’s\, 801 Red River Street\, Austin\, TX\, 78702\, United States
CATEGORIES:show
END:VEVENT
BEGIN:VEVENT
DTSTART;TZID=America/Chicago:20180120T180000
DTEND;TZID=America/Chicago:20180120T210000
DTSTAMP:20260421T193158
CREATED:20180119T025336Z
LAST-MODIFIED:20180119T025336Z
UID:3169-1516471200-1516482000@thisgreatwhitenorth.com
SUMMARY:Candace Bellamy
DESCRIPTION:KOOP Radio and the Alamo Drafthouse proudly present a free concert with Candace Bellamy\, bringing her unique blend of blues\, soul\, and R&B to Alamo Drafthouse’s new specialty bar\, Barrel O’ Fun\, which offers live music\, craft beers\, spirits\, and more. \nShare this:\n				Share on Facebook (Opens in new window)\n				Facebook\n			\n				Share on X (Opens in new window)\n				X\n			\n				Email a link to a friend (Opens in new window)\n				Email\n			\n				Share on Tumblr (Opens in new window)\n				Tumblr\n			More\n				Share on Reddit (Opens in new window)\n				Reddit\n			\n				Share on Pinterest (Opens in new window)\n				Pinterest\n			\n				Print (Opens in new window)\n				Print
URL:https://thisgreatwhitenorth.com/event/candace-bellamy/
LOCATION:Alamo Drafthouse Mueller\, 1911 Aldrich Street\, Suite 120\, Austin\, TX\, 78723\, United States
CATEGORIES:show
ORGANIZER;CN="KOOP Radio":MAILTO:info@koop.org
END:VEVENT
BEGIN:VEVENT
DTSTART;TZID=America/Chicago:20180119T193000
DTEND;TZID=America/Chicago:20180119T193000
DTSTAMP:20260421T193158
CREATED:20171120T062759Z
LAST-MODIFIED:20171120T062759Z
UID:3056-1516390200-1516390200@thisgreatwhitenorth.com
SUMMARY:Single Mothers
DESCRIPTION:With: \n\nEnter Shikari\nMilk Teeth\n\nShare this:\n				Share on Facebook (Opens in new window)\n				Facebook\n			\n				Share on X (Opens in new window)\n				X\n			\n				Email a link to a friend (Opens in new window)\n				Email\n			\n				Share on Tumblr (Opens in new window)\n				Tumblr\n			More\n				Share on Reddit (Opens in new window)\n				Reddit\n			\n				Share on Pinterest (Opens in new window)\n				Pinterest\n			\n				Print (Opens in new window)\n				Print
URL:https://thisgreatwhitenorth.com/event/single-mothers-2/
LOCATION:Mohawk\, 912 Red River Street\, Austin\, 78701\, United States
CATEGORIES:show
END:VEVENT
BEGIN:VEVENT
DTSTART;TZID=America/Chicago:20180115T183000
DTEND;TZID=America/Chicago:20180115T183000
DTSTAMP:20260421T193158
CREATED:20170927T050626Z
LAST-MODIFIED:20170927T050626Z
UID:2936-1516041000-1516041000@thisgreatwhitenorth.com
SUMMARY:Destroyer
DESCRIPTION:Outdoor show with: \n\nMega Bog\n\nShare this:\n				Share on Facebook (Opens in new window)\n				Facebook\n			\n				Share on X (Opens in new window)\n				X\n			\n				Email a link to a friend (Opens in new window)\n				Email\n			\n				Share on Tumblr (Opens in new window)\n				Tumblr\n			More\n				Share on Reddit (Opens in new window)\n				Reddit\n			\n				Share on Pinterest (Opens in new window)\n				Pinterest\n			\n				Print (Opens in new window)\n				Print
URL:https://thisgreatwhitenorth.com/event/destroyer/
LOCATION:Mohawk\, 912 Red River Street\, Austin\, 78701\, United States
CATEGORIES:show
END:VEVENT
BEGIN:VEVENT
DTSTART;TZID=America/Chicago:20171215T200000
DTEND;TZID=America/Chicago:20171215T200000
DTSTAMP:20260421T193158
CREATED:20170719T052703Z
LAST-MODIFIED:20171120T061049Z
UID:2780-1513368000-1513368000@thisgreatwhitenorth.com
SUMMARY:METZ
DESCRIPTION:With: \n\nCherubs\nMoaning\n\nShare this:\n				Share on Facebook (Opens in new window)\n				Facebook\n			\n				Share on X (Opens in new window)\n				X\n			\n				Email a link to a friend (Opens in new window)\n				Email\n			\n				Share on Tumblr (Opens in new window)\n				Tumblr\n			More\n				Share on Reddit (Opens in new window)\n				Reddit\n			\n				Share on Pinterest (Opens in new window)\n				Pinterest\n			\n				Print (Opens in new window)\n				Print
URL:https://thisgreatwhitenorth.com/event/metz-2/
LOCATION:Mohawk\, 912 Red River Street\, Austin\, 78701\, United States
CATEGORIES:show
END:VEVENT
BEGIN:VEVENT
DTSTART;TZID=America/Chicago:20171205T190000
DTEND;TZID=America/Chicago:20171205T190000
DTSTAMP:20260421T193158
CREATED:20170831T200332Z
LAST-MODIFIED:20171120T061002Z
UID:2878-1512500400-1512500400@thisgreatwhitenorth.com
SUMMARY:SonReal
DESCRIPTION:With: \n\nBlaque Keyz\n\nShare this:\n				Share on Facebook (Opens in new window)\n				Facebook\n			\n				Share on X (Opens in new window)\n				X\n			\n				Email a link to a friend (Opens in new window)\n				Email\n			\n				Share on Tumblr (Opens in new window)\n				Tumblr\n			More\n				Share on Reddit (Opens in new window)\n				Reddit\n			\n				Share on Pinterest (Opens in new window)\n				Pinterest\n			\n				Print (Opens in new window)\n				Print
URL:https://thisgreatwhitenorth.com/event/sonreal-2/
LOCATION:The Parish (6th Street)\, 214 E. 6th Street\, Austin\, TX\, 78701\, United States
CATEGORIES:show
END:VEVENT
BEGIN:VEVENT
DTSTART;TZID=America/Chicago:20171130T180000
DTEND;TZID=America/Chicago:20171130T180000
DTSTAMP:20260421T193158
CREATED:20171120T063251Z
LAST-MODIFIED:20171120T063251Z
UID:3060-1512064800-1512064800@thisgreatwhitenorth.com
SUMMARY:Simple Plan
DESCRIPTION:With: \n\nHit the Lights\nPatent Pending\n\nShare this:\n				Share on Facebook (Opens in new window)\n				Facebook\n			\n				Share on X (Opens in new window)\n				X\n			\n				Email a link to a friend (Opens in new window)\n				Email\n			\n				Share on Tumblr (Opens in new window)\n				Tumblr\n			More\n				Share on Reddit (Opens in new window)\n				Reddit\n			\n				Share on Pinterest (Opens in new window)\n				Pinterest\n			\n				Print (Opens in new window)\n				Print
URL:https://thisgreatwhitenorth.com/event/simple-plan-2/
LOCATION:Emo’s\, 2015 E. Riverside Drive\, Austin\, TX\, 78741\, United States
CATEGORIES:show
END:VEVENT
BEGIN:VEVENT
DTSTART;TZID=America/Chicago:20171116T180000
DTEND;TZID=America/Chicago:20171116T180000
DTSTAMP:20260421T193158
CREATED:20170621T083634Z
LAST-MODIFIED:20170621T083634Z
UID:2733-1510855200-1510855200@thisgreatwhitenorth.com
SUMMARY:Tegan and Sara
DESCRIPTION:Tegan and Sara will mark the tenth anniversary of the release of their fifth studio album The Con with a special North American tour. \nThey will perform acoustic and intimate arrangements of all 14 of the album’s songs\, followed by a selection of fan favorites. \nShare this:\n				Share on Facebook (Opens in new window)\n				Facebook\n			\n				Share on X (Opens in new window)\n				X\n			\n				Email a link to a friend (Opens in new window)\n				Email\n			\n				Share on Tumblr (Opens in new window)\n				Tumblr\n			More\n				Share on Reddit (Opens in new window)\n				Reddit\n			\n				Share on Pinterest (Opens in new window)\n				Pinterest\n			\n				Print (Opens in new window)\n				Print
URL:https://thisgreatwhitenorth.com/event/tegan-and-sara-4/
LOCATION:Paramount Theatre\, 713 Congress Avenue\, Austin\, TX\, 78701\, United States
CATEGORIES:show
END:VEVENT
BEGIN:VEVENT
DTSTART;TZID=America/Chicago:20171115T180000
DTEND;TZID=America/Chicago:20171115T180000
DTSTAMP:20260421T193158
CREATED:20170621T083513Z
LAST-MODIFIED:20170622T194642Z
UID:2734-1510768800-1510768800@thisgreatwhitenorth.com
SUMMARY:Tegan and Sara
DESCRIPTION:Tegan and Sara will mark the tenth anniversary of the release of their fifth studio album The Con with a special North American tour. \nThey will perform acoustic and intimate arrangements of all 14 of the album’s songs\, followed by a selection of fan favorites. \nShare this:\n				Share on Facebook (Opens in new window)\n				Facebook\n			\n				Share on X (Opens in new window)\n				X\n			\n				Email a link to a friend (Opens in new window)\n				Email\n			\n				Share on Tumblr (Opens in new window)\n				Tumblr\n			More\n				Share on Reddit (Opens in new window)\n				Reddit\n			\n				Share on Pinterest (Opens in new window)\n				Pinterest\n			\n				Print (Opens in new window)\n				Print
URL:https://thisgreatwhitenorth.com/event/tegan-and-sara-3/
LOCATION:Paramount Theatre\, 713 Congress Avenue\, Austin\, TX\, 78701\, United States
CATEGORIES:show
END:VEVENT
BEGIN:VEVENT
DTSTART;TZID=America/Chicago:20171113T200000
DTEND;TZID=America/Chicago:20171113T200000
DTSTAMP:20260421T193158
CREATED:20170831T200142Z
LAST-MODIFIED:20170831T200142Z
UID:2879-1510603200-1510603200@thisgreatwhitenorth.com
SUMMARY:The Rural Alberta Advantage & Yukon Blonde
DESCRIPTION:Share this:\n				Share on Facebook (Opens in new window)\n				Facebook\n			\n				Share on X (Opens in new window)\n				X\n			\n				Email a link to a friend (Opens in new window)\n				Email\n			\n				Share on Tumblr (Opens in new window)\n				Tumblr\n			More\n				Share on Reddit (Opens in new window)\n				Reddit\n			\n				Share on Pinterest (Opens in new window)\n				Pinterest\n			\n				Print (Opens in new window)\n				Print
URL:https://thisgreatwhitenorth.com/event/the-rural-alberta-advantage-yukon-blonde/
LOCATION:Barracuda\, 611 E. 7th Street\, Austin\, TX\, 78701\, United States
CATEGORIES:show
END:VEVENT
BEGIN:VEVENT
DTSTART;TZID=America/Chicago:20171113T190000
DTEND;TZID=America/Chicago:20171113T190000
DTSTAMP:20260421T193158
CREATED:20170929T081053Z
LAST-MODIFIED:20170929T081053Z
UID:2945-1510599600-1510599600@thisgreatwhitenorth.com
SUMMARY:She-Devils
DESCRIPTION:With: \n\nCults\nDeep Cuts\n\nShare this:\n				Share on Facebook (Opens in new window)\n				Facebook\n			\n				Share on X (Opens in new window)\n				X\n			\n				Email a link to a friend (Opens in new window)\n				Email\n			\n				Share on Tumblr (Opens in new window)\n				Tumblr\n			More\n				Share on Reddit (Opens in new window)\n				Reddit\n			\n				Share on Pinterest (Opens in new window)\n				Pinterest\n			\n				Print (Opens in new window)\n				Print
URL:https://thisgreatwhitenorth.com/event/she-devils/
LOCATION:Antone’s\, 305 E. 5th Street\, Austin\, TX\, 78701\, United States
CATEGORIES:show
END:VEVENT
BEGIN:VEVENT
DTSTART;TZID=America/Chicago:20171112T200000
DTEND;TZID=America/Chicago:20171112T200000
DTSTAMP:20260421T193158
CREATED:20170927T045025Z
LAST-MODIFIED:20170927T045025Z
UID:2927-1510516800-1510516800@thisgreatwhitenorth.com
SUMMARY:Colter Wall
DESCRIPTION:Share this:\n				Share on Facebook (Opens in new window)\n				Facebook\n			\n				Share on X (Opens in new window)\n				X\n			\n				Email a link to a friend (Opens in new window)\n				Email\n			\n				Share on Tumblr (Opens in new window)\n				Tumblr\n			More\n				Share on Reddit (Opens in new window)\n				Reddit\n			\n				Share on Pinterest (Opens in new window)\n				Pinterest\n			\n				Print (Opens in new window)\n				Print
URL:https://thisgreatwhitenorth.com/event/colter-wall-2/
LOCATION:Cactus Cafe\, 2247 Guadalupe Street\, Austin\, TX\, 78712\, United States
CATEGORIES:show
END:VEVENT
BEGIN:VEVENT
DTSTART;TZID=America/Chicago:20171111T193000
DTEND;TZID=America/Chicago:20171111T193000
DTSTAMP:20260421T193158
CREATED:20171026T055933Z
LAST-MODIFIED:20171026T055933Z
UID:2999-1510428600-1510428600@thisgreatwhitenorth.com
SUMMARY:Japandroids
DESCRIPTION:With: \n\nCloud Nothings\n\nShare this:\n				Share on Facebook (Opens in new window)\n				Facebook\n			\n				Share on X (Opens in new window)\n				X\n			\n				Email a link to a friend (Opens in new window)\n				Email\n			\n				Share on Tumblr (Opens in new window)\n				Tumblr\n			More\n				Share on Reddit (Opens in new window)\n				Reddit\n			\n				Share on Pinterest (Opens in new window)\n				Pinterest\n			\n				Print (Opens in new window)\n				Print
URL:https://thisgreatwhitenorth.com/event/japandroids-4/
LOCATION:Emo’s\, 2015 E. Riverside Drive\, Austin\, TX\, 78741\, United States
CATEGORIES:show
END:VEVENT
BEGIN:VEVENT
DTSTART;TZID=America/Chicago:20171109T210000
DTEND;TZID=America/Chicago:20171109T210000
DTSTAMP:20260421T193158
CREATED:20171110T041650Z
LAST-MODIFIED:20171110T041650Z
UID:3027-1510261200-1510261200@thisgreatwhitenorth.com
SUMMARY:Ekali
DESCRIPTION:With: \n\nJosh Pan\nY2K\n\nShare this:\n				Share on Facebook (Opens in new window)\n				Facebook\n			\n				Share on X (Opens in new window)\n				X\n			\n				Email a link to a friend (Opens in new window)\n				Email\n			\n				Share on Tumblr (Opens in new window)\n				Tumblr\n			More\n				Share on Reddit (Opens in new window)\n				Reddit\n			\n				Share on Pinterest (Opens in new window)\n				Pinterest\n			\n				Print (Opens in new window)\n				Print
URL:https://thisgreatwhitenorth.com/event/ekali/
LOCATION:Vulcan Gas Company\, 418 E. 6th Street\, Austin\, TX\, 78701\, United States
CATEGORIES:show
END:VEVENT
END:VCALENDAR